BEGIN:VCALENDAR
VERSION:2.0
PRODID:-//NetworkIN - ECPv6.15.17.1//NONSGML v1.0//EN
CALSCALE:GREGORIAN
METHOD:PUBLISH
X-ORIGINAL-URL:https://www.networkin.uk
X-WR-CALDESC:Events for NetworkIN
REFRESH-INTERVAL;VALUE=DURATION:PT1H
X-Robots-Tag:noindex
X-PUBLISHED-TTL:PT1H
BEGIN:VTIMEZONE
TZID:Europe/London
BEGIN:DAYLIGHT
TZOFFSETFROM:+0000
TZOFFSETTO:+0100
TZNAME:BST
DTSTART:20250330T010000
END:DAYLIGHT
BEGIN:STANDARD
TZOFFSETFROM:+0100
TZOFFSETTO:+0000
TZNAME:GMT
DTSTART:20251026T010000
END:STANDARD
BEGIN:DAYLIGHT
TZOFFSETFROM:+0000
TZOFFSETTO:+0100
TZNAME:BST
DTSTART:20260329T010000
END:DAYLIGHT
BEGIN:STANDARD
TZOFFSETFROM:+0100
TZOFFSETTO:+0000
TZNAME:GMT
DTSTART:20261025T010000
END:STANDARD
BEGIN:DAYLIGHT
TZOFFSETFROM:+0000
TZOFFSETTO:+0100
TZNAME:BST
DTSTART:20270328T010000
END:DAYLIGHT
BEGIN:STANDARD
TZOFFSETFROM:+0100
TZOFFSETTO:+0000
TZNAME:GMT
DTSTART:20271031T010000
END:STANDARD
END:VTIMEZONE
BEGIN:VEVENT
DTSTART;TZID=Europe/London:20260422T100000
DTEND;TZID=Europe/London:20260422T120000
DTSTAMP:20260424T233054
CREATED:20241217T170344Z
LAST-MODIFIED:20241217T170345Z
UID:10005096-1776852000-1776859200@www.networkin.uk
SUMMARY:Team Crewe
DESCRIPTION:Team Crewe meet at The Duke of Gloucester every other Wednesday at 10.00 am. \nAs well as structured referral marketing there is also an opportunity for a minute message – your opportunity to inform the team on what you do and also open networking. \nNetworkIN operates on a sector-exclusive basis\, meaning that if there is an advocate already in the team that does what you do then it will not be possible for you to attend that meeting. However\, with teams operating from hubs across Staffordshire\, Cheshire\, Lancashire and the West Midlands we will likely have a team that will be able to welcome you along. Simply check out our teams or contact NetworkIN HQ on 01785 291 129 or team@networkin.uk and we will happily help. \nWe do restrict our meeting number to allow for a positive referral marketing meeting experience\, so if you are looking for an opportunity to promote your business right now\, seeking to surround yourself with people facing the same challenges as yourself and maintaining a positive mindset TAKE ACTION and book today. \nTo attend the next meeting simply enter your details on the booking form and we will send an invite to you. \n 
URL:https://www.networkin.uk/event/team-crewe-3-2/2026-04-22/
LOCATION:The Duke of Gloucester\, Beswick Drive\, Chorlton\, Crewe\, Cheshire\, CW1 5NP\, United Kingdom
CATEGORIES:Face to Face Meetings,NetworkIN Cheshire Meetings,NetworkIN Meetings
ATTACH;FMTTYPE=image/png:https://www.networkin.uk/wp-content/uploads/2020/04/Copy-of-Cheshire-Website-Group-Graphics-Landscape-2.png
ORGANIZER;CN="NetworkIN Cheshire":MAILTO:pam.allen@networkin.uk
END:VEVENT
BEGIN:VEVENT
DTSTART;TZID=Europe/London:20260408T100000
DTEND;TZID=Europe/London:20260408T120000
DTSTAMP:20260424T233054
CREATED:20241217T170344Z
LAST-MODIFIED:20241217T170345Z
UID:10005095-1775642400-1775649600@www.networkin.uk
SUMMARY:Team Crewe
DESCRIPTION:Team Crewe meet at The Duke of Gloucester every other Wednesday at 10.00 am. \nAs well as structured referral marketing there is also an opportunity for a minute message – your opportunity to inform the team on what you do and also open networking. \nNetworkIN operates on a sector-exclusive basis\, meaning that if there is an advocate already in the team that does what you do then it will not be possible for you to attend that meeting. However\, with teams operating from hubs across Staffordshire\, Cheshire\, Lancashire and the West Midlands we will likely have a team that will be able to welcome you along. Simply check out our teams or contact NetworkIN HQ on 01785 291 129 or team@networkin.uk and we will happily help. \nWe do restrict our meeting number to allow for a positive referral marketing meeting experience\, so if you are looking for an opportunity to promote your business right now\, seeking to surround yourself with people facing the same challenges as yourself and maintaining a positive mindset TAKE ACTION and book today. \nTo attend the next meeting simply enter your details on the booking form and we will send an invite to you. \n 
URL:https://www.networkin.uk/event/team-crewe-3-2/2026-04-08/
LOCATION:The Duke of Gloucester\, Beswick Drive\, Chorlton\, Crewe\, Cheshire\, CW1 5NP\, United Kingdom
CATEGORIES:Face to Face Meetings,NetworkIN Cheshire Meetings,NetworkIN Meetings
ATTACH;FMTTYPE=image/png:https://www.networkin.uk/wp-content/uploads/2020/04/Copy-of-Cheshire-Website-Group-Graphics-Landscape-2.png
ORGANIZER;CN="NetworkIN Cheshire":MAILTO:pam.allen@networkin.uk
END:VEVENT
BEGIN:VEVENT
DTSTART;TZID=Europe/London:20260325T100000
DTEND;TZID=Europe/London:20260325T120000
DTSTAMP:20260424T233054
CREATED:20241217T170344Z
LAST-MODIFIED:20241217T170345Z
UID:10005094-1774432800-1774440000@www.networkin.uk
SUMMARY:Team Crewe
DESCRIPTION:Team Crewe meet at The Duke of Gloucester every other Wednesday at 10.00 am. \nAs well as structured referral marketing there is also an opportunity for a minute message – your opportunity to inform the team on what you do and also open networking. \nNetworkIN operates on a sector-exclusive basis\, meaning that if there is an advocate already in the team that does what you do then it will not be possible for you to attend that meeting. However\, with teams operating from hubs across Staffordshire\, Cheshire\, Lancashire and the West Midlands we will likely have a team that will be able to welcome you along. Simply check out our teams or contact NetworkIN HQ on 01785 291 129 or team@networkin.uk and we will happily help. \nWe do restrict our meeting number to allow for a positive referral marketing meeting experience\, so if you are looking for an opportunity to promote your business right now\, seeking to surround yourself with people facing the same challenges as yourself and maintaining a positive mindset TAKE ACTION and book today. \nTo attend the next meeting simply enter your details on the booking form and we will send an invite to you. \n 
URL:https://www.networkin.uk/event/team-crewe-3-2/2026-03-25/
LOCATION:The Duke of Gloucester\, Beswick Drive\, Chorlton\, Crewe\, Cheshire\, CW1 5NP\, United Kingdom
CATEGORIES:Face to Face Meetings,NetworkIN Cheshire Meetings,NetworkIN Meetings
ATTACH;FMTTYPE=image/png:https://www.networkin.uk/wp-content/uploads/2020/04/Copy-of-Cheshire-Website-Group-Graphics-Landscape-2.png
ORGANIZER;CN="NetworkIN Cheshire":MAILTO:pam.allen@networkin.uk
END:VEVENT
BEGIN:VEVENT
DTSTART;TZID=Europe/London:20260311T100000
DTEND;TZID=Europe/London:20260311T120000
DTSTAMP:20260424T233054
CREATED:20241217T170344Z
LAST-MODIFIED:20241217T170345Z
UID:10005093-1773223200-1773230400@www.networkin.uk
SUMMARY:Team Crewe
DESCRIPTION:Team Crewe meet at The Duke of Gloucester every other Wednesday at 10.00 am. \nAs well as structured referral marketing there is also an opportunity for a minute message – your opportunity to inform the team on what you do and also open networking. \nNetworkIN operates on a sector-exclusive basis\, meaning that if there is an advocate already in the team that does what you do then it will not be possible for you to attend that meeting. However\, with teams operating from hubs across Staffordshire\, Cheshire\, Lancashire and the West Midlands we will likely have a team that will be able to welcome you along. Simply check out our teams or contact NetworkIN HQ on 01785 291 129 or team@networkin.uk and we will happily help. \nWe do restrict our meeting number to allow for a positive referral marketing meeting experience\, so if you are looking for an opportunity to promote your business right now\, seeking to surround yourself with people facing the same challenges as yourself and maintaining a positive mindset TAKE ACTION and book today. \nTo attend the next meeting simply enter your details on the booking form and we will send an invite to you. \n 
URL:https://www.networkin.uk/event/team-crewe-3-2/2026-03-11/
LOCATION:The Duke of Gloucester\, Beswick Drive\, Chorlton\, Crewe\, Cheshire\, CW1 5NP\, United Kingdom
CATEGORIES:Face to Face Meetings,NetworkIN Cheshire Meetings,NetworkIN Meetings
ATTACH;FMTTYPE=image/png:https://www.networkin.uk/wp-content/uploads/2020/04/Copy-of-Cheshire-Website-Group-Graphics-Landscape-2.png
ORGANIZER;CN="NetworkIN Cheshire":MAILTO:pam.allen@networkin.uk
END:VEVENT
BEGIN:VEVENT
DTSTART;TZID=Europe/London:20260225T100000
DTEND;TZID=Europe/London:20260225T120000
DTSTAMP:20260424T233054
CREATED:20241217T170344Z
LAST-MODIFIED:20241217T170345Z
UID:10005092-1772013600-1772020800@www.networkin.uk
SUMMARY:Team Crewe
DESCRIPTION:Team Crewe meet at The Duke of Gloucester every other Wednesday at 10.00 am. \nAs well as structured referral marketing there is also an opportunity for a minute message – your opportunity to inform the team on what you do and also open networking. \nNetworkIN operates on a sector-exclusive basis\, meaning that if there is an advocate already in the team that does what you do then it will not be possible for you to attend that meeting. However\, with teams operating from hubs across Staffordshire\, Cheshire\, Lancashire and the West Midlands we will likely have a team that will be able to welcome you along. Simply check out our teams or contact NetworkIN HQ on 01785 291 129 or team@networkin.uk and we will happily help. \nWe do restrict our meeting number to allow for a positive referral marketing meeting experience\, so if you are looking for an opportunity to promote your business right now\, seeking to surround yourself with people facing the same challenges as yourself and maintaining a positive mindset TAKE ACTION and book today. \nTo attend the next meeting simply enter your details on the booking form and we will send an invite to you. \n 
URL:https://www.networkin.uk/event/team-crewe-3-2/2026-02-25/
LOCATION:The Duke of Gloucester\, Beswick Drive\, Chorlton\, Crewe\, Cheshire\, CW1 5NP\, United Kingdom
CATEGORIES:Face to Face Meetings,NetworkIN Cheshire Meetings,NetworkIN Meetings
ATTACH;FMTTYPE=image/png:https://www.networkin.uk/wp-content/uploads/2020/04/Copy-of-Cheshire-Website-Group-Graphics-Landscape-2.png
ORGANIZER;CN="NetworkIN Cheshire":MAILTO:pam.allen@networkin.uk
END:VEVENT
BEGIN:VEVENT
DTSTART;TZID=Europe/London:20260211T100000
DTEND;TZID=Europe/London:20260211T120000
DTSTAMP:20260424T233054
CREATED:20241217T170344Z
LAST-MODIFIED:20241217T170345Z
UID:10005091-1770804000-1770811200@www.networkin.uk
SUMMARY:Team Crewe
DESCRIPTION:Team Crewe meet at The Duke of Gloucester every other Wednesday at 10.00 am. \nAs well as structured referral marketing there is also an opportunity for a minute message – your opportunity to inform the team on what you do and also open networking. \nNetworkIN operates on a sector-exclusive basis\, meaning that if there is an advocate already in the team that does what you do then it will not be possible for you to attend that meeting. However\, with teams operating from hubs across Staffordshire\, Cheshire\, Lancashire and the West Midlands we will likely have a team that will be able to welcome you along. Simply check out our teams or contact NetworkIN HQ on 01785 291 129 or team@networkin.uk and we will happily help. \nWe do restrict our meeting number to allow for a positive referral marketing meeting experience\, so if you are looking for an opportunity to promote your business right now\, seeking to surround yourself with people facing the same challenges as yourself and maintaining a positive mindset TAKE ACTION and book today. \nTo attend the next meeting simply enter your details on the booking form and we will send an invite to you. \n 
URL:https://www.networkin.uk/event/team-crewe-3-2/2026-02-11/
LOCATION:The Duke of Gloucester\, Beswick Drive\, Chorlton\, Crewe\, Cheshire\, CW1 5NP\, United Kingdom
CATEGORIES:Face to Face Meetings,NetworkIN Cheshire Meetings,NetworkIN Meetings
ATTACH;FMTTYPE=image/png:https://www.networkin.uk/wp-content/uploads/2020/04/Copy-of-Cheshire-Website-Group-Graphics-Landscape-2.png
ORGANIZER;CN="NetworkIN Cheshire":MAILTO:pam.allen@networkin.uk
END:VEVENT
BEGIN:VEVENT
DTSTART;TZID=Europe/London:20260128T100000
DTEND;TZID=Europe/London:20260128T120000
DTSTAMP:20260424T233054
CREATED:20241217T170344Z
LAST-MODIFIED:20241217T170345Z
UID:10005090-1769594400-1769601600@www.networkin.uk
SUMMARY:Team Crewe
DESCRIPTION:Team Crewe meet at The Duke of Gloucester every other Wednesday at 10.00 am. \nAs well as structured referral marketing there is also an opportunity for a minute message – your opportunity to inform the team on what you do and also open networking. \nNetworkIN operates on a sector-exclusive basis\, meaning that if there is an advocate already in the team that does what you do then it will not be possible for you to attend that meeting. However\, with teams operating from hubs across Staffordshire\, Cheshire\, Lancashire and the West Midlands we will likely have a team that will be able to welcome you along. Simply check out our teams or contact NetworkIN HQ on 01785 291 129 or team@networkin.uk and we will happily help. \nWe do restrict our meeting number to allow for a positive referral marketing meeting experience\, so if you are looking for an opportunity to promote your business right now\, seeking to surround yourself with people facing the same challenges as yourself and maintaining a positive mindset TAKE ACTION and book today. \nTo attend the next meeting simply enter your details on the booking form and we will send an invite to you. \n 
URL:https://www.networkin.uk/event/team-crewe-3-2/2026-01-28/
LOCATION:The Duke of Gloucester\, Beswick Drive\, Chorlton\, Crewe\, Cheshire\, CW1 5NP\, United Kingdom
CATEGORIES:Face to Face Meetings,NetworkIN Cheshire Meetings,NetworkIN Meetings
ATTACH;FMTTYPE=image/png:https://www.networkin.uk/wp-content/uploads/2020/04/Copy-of-Cheshire-Website-Group-Graphics-Landscape-2.png
ORGANIZER;CN="NetworkIN Cheshire":MAILTO:pam.allen@networkin.uk
END:VEVENT
END:VCALENDAR