BEGIN:VCALENDAR
VERSION:2.0
PRODID:-//NetworkIN - ECPv6.15.17.1//NONSGML v1.0//EN
CALSCALE:GREGORIAN
METHOD:PUBLISH
X-WR-CALNAME:NetworkIN
X-ORIGINAL-URL:https://www.networkin.uk
X-WR-CALDESC:Events for NetworkIN
REFRESH-INTERVAL;VALUE=DURATION:PT1H
X-Robots-Tag:noindex
X-PUBLISHED-TTL:PT1H
BEGIN:VTIMEZONE
TZID:Europe/London
BEGIN:DAYLIGHT
TZOFFSETFROM:+0000
TZOFFSETTO:+0100
TZNAME:BST
DTSTART:20250330T010000
END:DAYLIGHT
BEGIN:STANDARD
TZOFFSETFROM:+0100
TZOFFSETTO:+0000
TZNAME:GMT
DTSTART:20251026T010000
END:STANDARD
BEGIN:DAYLIGHT
TZOFFSETFROM:+0000
TZOFFSETTO:+0100
TZNAME:BST
DTSTART:20260329T010000
END:DAYLIGHT
BEGIN:STANDARD
TZOFFSETFROM:+0100
TZOFFSETTO:+0000
TZNAME:GMT
DTSTART:20261025T010000
END:STANDARD
BEGIN:DAYLIGHT
TZOFFSETFROM:+0000
TZOFFSETTO:+0100
TZNAME:BST
DTSTART:20270328T010000
END:DAYLIGHT
BEGIN:STANDARD
TZOFFSETFROM:+0100
TZOFFSETTO:+0000
TZNAME:GMT
DTSTART:20271031T010000
END:STANDARD
END:VTIMEZONE
BEGIN:VEVENT
DTSTART;TZID=Europe/London:20260417T120000
DTEND;TZID=Europe/London:20260417T140000
DTSTAMP:20260425T010902
CREATED:20221116T154618Z
LAST-MODIFIED:20241217T170825Z
UID:10004142-1776427200-1776434400@www.networkin.uk
SUMMARY:Team Cheshire Lunch
DESCRIPTION:Team Cheshire Lunch meet at The White Lion\, Audlem Road\, Hankelow CW3 0JA\, every other Friday at noon. \nAs well as structured referral marketing there is also an opportunity for a minute message – your opportunity to inform the team on what you do and also open networking. \nNetworkIN operates on a sector-exclusive basis\, meaning that if there is an advocate already in the team that does what you do then it will not be possible for you to attend that meeting. However\, with teams operating from hubs across Staffordshire\, Cheshire\, Shropshire and Lancashire we will likely have a team that will be able to welcome you along. Simply check out our teams or contact NetworkIN HQ on 01785 291 129 or team@networkin.uk and we will happily help. \nWe do restrict our meeting number to allow for a positive referral marketing meeting experience\, so if you are looking for an opportunity to promote your business right now\, seeking to surround yourself with people facing the same challenges as yourself and maintaining a positive mindset TAKE ACTION and book today. \nTo attend the next meeting simply enter your details on the booking form and we will send an invite to you.
URL:https://www.networkin.uk/event/team-cheshire-lunch/2026-04-17/
LOCATION:The White Lion\, Audlem Road\, Hankelow\, CW3 0JA\, United Kingdom
CATEGORIES:Face to Face Meetings,NetworkIN Cheshire Meetings
ATTACH;FMTTYPE=image/jpeg:https://www.networkin.uk/wp-content/uploads/2022/11/Team-cheshire-lunch-networkin-01.jpg
ORGANIZER;CN="NetworkIN Cheshire":MAILTO:pam.allen@networkin.uk
END:VEVENT
BEGIN:VEVENT
DTSTART;TZID=Europe/London:20260403T120000
DTEND;TZID=Europe/London:20260403T140000
DTSTAMP:20260425T010902
CREATED:20221116T154618Z
LAST-MODIFIED:20241217T170825Z
UID:10004141-1775217600-1775224800@www.networkin.uk
SUMMARY:Team Cheshire Lunch
DESCRIPTION:Team Cheshire Lunch meet at The White Lion\, Audlem Road\, Hankelow CW3 0JA\, every other Friday at noon. \nAs well as structured referral marketing there is also an opportunity for a minute message – your opportunity to inform the team on what you do and also open networking. \nNetworkIN operates on a sector-exclusive basis\, meaning that if there is an advocate already in the team that does what you do then it will not be possible for you to attend that meeting. However\, with teams operating from hubs across Staffordshire\, Cheshire\, Shropshire and Lancashire we will likely have a team that will be able to welcome you along. Simply check out our teams or contact NetworkIN HQ on 01785 291 129 or team@networkin.uk and we will happily help. \nWe do restrict our meeting number to allow for a positive referral marketing meeting experience\, so if you are looking for an opportunity to promote your business right now\, seeking to surround yourself with people facing the same challenges as yourself and maintaining a positive mindset TAKE ACTION and book today. \nTo attend the next meeting simply enter your details on the booking form and we will send an invite to you.
URL:https://www.networkin.uk/event/team-cheshire-lunch/2026-04-03/
LOCATION:The White Lion\, Audlem Road\, Hankelow\, CW3 0JA\, United Kingdom
CATEGORIES:Face to Face Meetings,NetworkIN Cheshire Meetings
ATTACH;FMTTYPE=image/jpeg:https://www.networkin.uk/wp-content/uploads/2022/11/Team-cheshire-lunch-networkin-01.jpg
ORGANIZER;CN="NetworkIN Cheshire":MAILTO:pam.allen@networkin.uk
END:VEVENT
BEGIN:VEVENT
DTSTART;TZID=Europe/London:20260320T120000
DTEND;TZID=Europe/London:20260320T140000
DTSTAMP:20260425T010902
CREATED:20221116T154618Z
LAST-MODIFIED:20241217T170825Z
UID:10004140-1774008000-1774015200@www.networkin.uk
SUMMARY:Team Cheshire Lunch
DESCRIPTION:Team Cheshire Lunch meet at The White Lion\, Audlem Road\, Hankelow CW3 0JA\, every other Friday at noon. \nAs well as structured referral marketing there is also an opportunity for a minute message – your opportunity to inform the team on what you do and also open networking. \nNetworkIN operates on a sector-exclusive basis\, meaning that if there is an advocate already in the team that does what you do then it will not be possible for you to attend that meeting. However\, with teams operating from hubs across Staffordshire\, Cheshire\, Shropshire and Lancashire we will likely have a team that will be able to welcome you along. Simply check out our teams or contact NetworkIN HQ on 01785 291 129 or team@networkin.uk and we will happily help. \nWe do restrict our meeting number to allow for a positive referral marketing meeting experience\, so if you are looking for an opportunity to promote your business right now\, seeking to surround yourself with people facing the same challenges as yourself and maintaining a positive mindset TAKE ACTION and book today. \nTo attend the next meeting simply enter your details on the booking form and we will send an invite to you.
URL:https://www.networkin.uk/event/team-cheshire-lunch/2026-03-20/
LOCATION:The White Lion\, Audlem Road\, Hankelow\, CW3 0JA\, United Kingdom
CATEGORIES:Face to Face Meetings,NetworkIN Cheshire Meetings
ATTACH;FMTTYPE=image/jpeg:https://www.networkin.uk/wp-content/uploads/2022/11/Team-cheshire-lunch-networkin-01.jpg
ORGANIZER;CN="NetworkIN Cheshire":MAILTO:pam.allen@networkin.uk
END:VEVENT
BEGIN:VEVENT
DTSTART;TZID=Europe/London:20260306T120000
DTEND;TZID=Europe/London:20260306T140000
DTSTAMP:20260425T010902
CREATED:20221116T154618Z
LAST-MODIFIED:20241217T170825Z
UID:10004139-1772798400-1772805600@www.networkin.uk
SUMMARY:Team Cheshire Lunch
DESCRIPTION:Team Cheshire Lunch meet at The White Lion\, Audlem Road\, Hankelow CW3 0JA\, every other Friday at noon. \nAs well as structured referral marketing there is also an opportunity for a minute message – your opportunity to inform the team on what you do and also open networking. \nNetworkIN operates on a sector-exclusive basis\, meaning that if there is an advocate already in the team that does what you do then it will not be possible for you to attend that meeting. However\, with teams operating from hubs across Staffordshire\, Cheshire\, Shropshire and Lancashire we will likely have a team that will be able to welcome you along. Simply check out our teams or contact NetworkIN HQ on 01785 291 129 or team@networkin.uk and we will happily help. \nWe do restrict our meeting number to allow for a positive referral marketing meeting experience\, so if you are looking for an opportunity to promote your business right now\, seeking to surround yourself with people facing the same challenges as yourself and maintaining a positive mindset TAKE ACTION and book today. \nTo attend the next meeting simply enter your details on the booking form and we will send an invite to you.
URL:https://www.networkin.uk/event/team-cheshire-lunch/2026-03-06/
LOCATION:The White Lion\, Audlem Road\, Hankelow\, CW3 0JA\, United Kingdom
CATEGORIES:Face to Face Meetings,NetworkIN Cheshire Meetings
ATTACH;FMTTYPE=image/jpeg:https://www.networkin.uk/wp-content/uploads/2022/11/Team-cheshire-lunch-networkin-01.jpg
ORGANIZER;CN="NetworkIN Cheshire":MAILTO:pam.allen@networkin.uk
END:VEVENT
BEGIN:VEVENT
DTSTART;TZID=Europe/London:20260220T120000
DTEND;TZID=Europe/London:20260220T140000
DTSTAMP:20260425T010902
CREATED:20221116T154618Z
LAST-MODIFIED:20241217T170825Z
UID:10004138-1771588800-1771596000@www.networkin.uk
SUMMARY:Team Cheshire Lunch
DESCRIPTION:Team Cheshire Lunch meet at The White Lion\, Audlem Road\, Hankelow CW3 0JA\, every other Friday at noon. \nAs well as structured referral marketing there is also an opportunity for a minute message – your opportunity to inform the team on what you do and also open networking. \nNetworkIN operates on a sector-exclusive basis\, meaning that if there is an advocate already in the team that does what you do then it will not be possible for you to attend that meeting. However\, with teams operating from hubs across Staffordshire\, Cheshire\, Shropshire and Lancashire we will likely have a team that will be able to welcome you along. Simply check out our teams or contact NetworkIN HQ on 01785 291 129 or team@networkin.uk and we will happily help. \nWe do restrict our meeting number to allow for a positive referral marketing meeting experience\, so if you are looking for an opportunity to promote your business right now\, seeking to surround yourself with people facing the same challenges as yourself and maintaining a positive mindset TAKE ACTION and book today. \nTo attend the next meeting simply enter your details on the booking form and we will send an invite to you.
URL:https://www.networkin.uk/event/team-cheshire-lunch/2026-02-20/
LOCATION:The White Lion\, Audlem Road\, Hankelow\, CW3 0JA\, United Kingdom
CATEGORIES:Face to Face Meetings,NetworkIN Cheshire Meetings
ATTACH;FMTTYPE=image/jpeg:https://www.networkin.uk/wp-content/uploads/2022/11/Team-cheshire-lunch-networkin-01.jpg
ORGANIZER;CN="NetworkIN Cheshire":MAILTO:pam.allen@networkin.uk
END:VEVENT
BEGIN:VEVENT
DTSTART;TZID=Europe/London:20260206T120000
DTEND;TZID=Europe/London:20260206T140000
DTSTAMP:20260425T010902
CREATED:20221116T154618Z
LAST-MODIFIED:20241217T170825Z
UID:10004137-1770379200-1770386400@www.networkin.uk
SUMMARY:Team Cheshire Lunch
DESCRIPTION:Team Cheshire Lunch meet at The White Lion\, Audlem Road\, Hankelow CW3 0JA\, every other Friday at noon. \nAs well as structured referral marketing there is also an opportunity for a minute message – your opportunity to inform the team on what you do and also open networking. \nNetworkIN operates on a sector-exclusive basis\, meaning that if there is an advocate already in the team that does what you do then it will not be possible for you to attend that meeting. However\, with teams operating from hubs across Staffordshire\, Cheshire\, Shropshire and Lancashire we will likely have a team that will be able to welcome you along. Simply check out our teams or contact NetworkIN HQ on 01785 291 129 or team@networkin.uk and we will happily help. \nWe do restrict our meeting number to allow for a positive referral marketing meeting experience\, so if you are looking for an opportunity to promote your business right now\, seeking to surround yourself with people facing the same challenges as yourself and maintaining a positive mindset TAKE ACTION and book today. \nTo attend the next meeting simply enter your details on the booking form and we will send an invite to you.
URL:https://www.networkin.uk/event/team-cheshire-lunch/2026-02-06/
LOCATION:The White Lion\, Audlem Road\, Hankelow\, CW3 0JA\, United Kingdom
CATEGORIES:Face to Face Meetings,NetworkIN Cheshire Meetings
ATTACH;FMTTYPE=image/jpeg:https://www.networkin.uk/wp-content/uploads/2022/11/Team-cheshire-lunch-networkin-01.jpg
ORGANIZER;CN="NetworkIN Cheshire":MAILTO:pam.allen@networkin.uk
END:VEVENT
END:VCALENDAR