BEGIN:VCALENDAR
VERSION:2.0
PRODID:-//NetworkIN - ECPv6.15.17.1//NONSGML v1.0//EN
CALSCALE:GREGORIAN
METHOD:PUBLISH
X-ORIGINAL-URL:https://www.networkin.uk
X-WR-CALDESC:Events for NetworkIN
REFRESH-INTERVAL;VALUE=DURATION:PT1H
X-Robots-Tag:noindex
X-PUBLISHED-TTL:PT1H
BEGIN:VTIMEZONE
TZID:Europe/London
BEGIN:DAYLIGHT
TZOFFSETFROM:+0000
TZOFFSETTO:+0100
TZNAME:BST
DTSTART:20250330T010000
END:DAYLIGHT
BEGIN:STANDARD
TZOFFSETFROM:+0100
TZOFFSETTO:+0000
TZNAME:GMT
DTSTART:20251026T010000
END:STANDARD
BEGIN:DAYLIGHT
TZOFFSETFROM:+0000
TZOFFSETTO:+0100
TZNAME:BST
DTSTART:20260329T010000
END:DAYLIGHT
BEGIN:STANDARD
TZOFFSETFROM:+0100
TZOFFSETTO:+0000
TZNAME:GMT
DTSTART:20261025T010000
END:STANDARD
BEGIN:DAYLIGHT
TZOFFSETFROM:+0000
TZOFFSETTO:+0100
TZNAME:BST
DTSTART:20270328T010000
END:DAYLIGHT
BEGIN:STANDARD
TZOFFSETFROM:+0100
TZOFFSETTO:+0000
TZNAME:GMT
DTSTART:20271031T010000
END:STANDARD
END:VTIMEZONE
BEGIN:VEVENT
DTSTART;TZID=Europe/London:20260415T064500
DTEND;TZID=Europe/London:20260415T084500
DTSTAMP:20260424T123050
CREATED:20200724T103801Z
LAST-MODIFIED:20241217T170551Z
UID:10004756-1776235500-1776242700@www.networkin.uk
SUMMARY:Team Manchester
DESCRIPTION:Team Manchester meet every other Wednesday at 06:45 at Cheadle Golf Club\, Cheadle. \nAs well as structured referral marketing there is also an opportunity for a minute message – your opportunity to inform the team on what you do and also open networking. \nNetworkIN operates on a sector-exclusive basis\, meaning that if there is an advocate already in the team that does what you do then it will not be possible for you to attend that meeting. However\, with teams operating from hubs across Staffordshire\, Cheshire\, and Lancashire we will likely have a team that will be able to welcome you along. Simply check out our teams or contact NetworkIN HQ on 01785 291 129 or team@networkin.uk and we will happily help. \nWe do restrict our meeting number to allow for a positive referral marketing meeting experience\, so if you are looking for an opportunity to promote your business right now\, seeking to surround yourself with people facing the same challenges as yourself and maintaining a positive mindset TAKE ACTION and book today. \nTo attend the next meeting simply enter your details on the booking form and we will send an invite to you. \n  \nBook your seat now\n  \nMeet the Team
URL:https://www.networkin.uk/event/team-manchester/2026-04-15/
LOCATION:Cheadle Golf Club\, Shiers Drive\, Cheadle Road\, Cheadle\, Cheshire\, SK8 1HW\, United Kingdom
CATEGORIES:Face to Face Meetings,NetworkIN Lancashire,NetworkIN Meetings
ATTACH;FMTTYPE=image/jpeg:https://www.networkin.uk/wp-content/uploads/2020/07/Team-Manchester-NetworkIN-graphic.jpg
ORGANIZER;CN="NetworkIN UK":MAILTO:team@networkin.uk
END:VEVENT
BEGIN:VEVENT
DTSTART;TZID=Europe/London:20260401T064500
DTEND;TZID=Europe/London:20260401T084500
DTSTAMP:20260424T123050
CREATED:20200724T103801Z
LAST-MODIFIED:20241217T170551Z
UID:10004755-1775025900-1775033100@www.networkin.uk
SUMMARY:Team Manchester
DESCRIPTION:Team Manchester meet every other Wednesday at 06:45 at Cheadle Golf Club\, Cheadle. \nAs well as structured referral marketing there is also an opportunity for a minute message – your opportunity to inform the team on what you do and also open networking. \nNetworkIN operates on a sector-exclusive basis\, meaning that if there is an advocate already in the team that does what you do then it will not be possible for you to attend that meeting. However\, with teams operating from hubs across Staffordshire\, Cheshire\, and Lancashire we will likely have a team that will be able to welcome you along. Simply check out our teams or contact NetworkIN HQ on 01785 291 129 or team@networkin.uk and we will happily help. \nWe do restrict our meeting number to allow for a positive referral marketing meeting experience\, so if you are looking for an opportunity to promote your business right now\, seeking to surround yourself with people facing the same challenges as yourself and maintaining a positive mindset TAKE ACTION and book today. \nTo attend the next meeting simply enter your details on the booking form and we will send an invite to you. \n  \nBook your seat now\n  \nMeet the Team
URL:https://www.networkin.uk/event/team-manchester/2026-04-01/
LOCATION:Cheadle Golf Club\, Shiers Drive\, Cheadle Road\, Cheadle\, Cheshire\, SK8 1HW\, United Kingdom
CATEGORIES:Face to Face Meetings,NetworkIN Lancashire,NetworkIN Meetings
ATTACH;FMTTYPE=image/jpeg:https://www.networkin.uk/wp-content/uploads/2020/07/Team-Manchester-NetworkIN-graphic.jpg
ORGANIZER;CN="NetworkIN UK":MAILTO:team@networkin.uk
END:VEVENT
BEGIN:VEVENT
DTSTART;TZID=Europe/London:20260318T064500
DTEND;TZID=Europe/London:20260318T084500
DTSTAMP:20260424T123050
CREATED:20200724T103801Z
LAST-MODIFIED:20241217T170551Z
UID:10004754-1773816300-1773823500@www.networkin.uk
SUMMARY:Team Manchester
DESCRIPTION:Team Manchester meet every other Wednesday at 06:45 at Cheadle Golf Club\, Cheadle. \nAs well as structured referral marketing there is also an opportunity for a minute message – your opportunity to inform the team on what you do and also open networking. \nNetworkIN operates on a sector-exclusive basis\, meaning that if there is an advocate already in the team that does what you do then it will not be possible for you to attend that meeting. However\, with teams operating from hubs across Staffordshire\, Cheshire\, and Lancashire we will likely have a team that will be able to welcome you along. Simply check out our teams or contact NetworkIN HQ on 01785 291 129 or team@networkin.uk and we will happily help. \nWe do restrict our meeting number to allow for a positive referral marketing meeting experience\, so if you are looking for an opportunity to promote your business right now\, seeking to surround yourself with people facing the same challenges as yourself and maintaining a positive mindset TAKE ACTION and book today. \nTo attend the next meeting simply enter your details on the booking form and we will send an invite to you. \n  \nBook your seat now\n  \nMeet the Team
URL:https://www.networkin.uk/event/team-manchester/2026-03-18/
LOCATION:Cheadle Golf Club\, Shiers Drive\, Cheadle Road\, Cheadle\, Cheshire\, SK8 1HW\, United Kingdom
CATEGORIES:Face to Face Meetings,NetworkIN Lancashire,NetworkIN Meetings
ATTACH;FMTTYPE=image/jpeg:https://www.networkin.uk/wp-content/uploads/2020/07/Team-Manchester-NetworkIN-graphic.jpg
ORGANIZER;CN="NetworkIN UK":MAILTO:team@networkin.uk
END:VEVENT
BEGIN:VEVENT
DTSTART;TZID=Europe/London:20260304T064500
DTEND;TZID=Europe/London:20260304T084500
DTSTAMP:20260424T123050
CREATED:20200724T103801Z
LAST-MODIFIED:20241217T170551Z
UID:10004753-1772606700-1772613900@www.networkin.uk
SUMMARY:Team Manchester
DESCRIPTION:Team Manchester meet every other Wednesday at 06:45 at Cheadle Golf Club\, Cheadle. \nAs well as structured referral marketing there is also an opportunity for a minute message – your opportunity to inform the team on what you do and also open networking. \nNetworkIN operates on a sector-exclusive basis\, meaning that if there is an advocate already in the team that does what you do then it will not be possible for you to attend that meeting. However\, with teams operating from hubs across Staffordshire\, Cheshire\, and Lancashire we will likely have a team that will be able to welcome you along. Simply check out our teams or contact NetworkIN HQ on 01785 291 129 or team@networkin.uk and we will happily help. \nWe do restrict our meeting number to allow for a positive referral marketing meeting experience\, so if you are looking for an opportunity to promote your business right now\, seeking to surround yourself with people facing the same challenges as yourself and maintaining a positive mindset TAKE ACTION and book today. \nTo attend the next meeting simply enter your details on the booking form and we will send an invite to you. \n  \nBook your seat now\n  \nMeet the Team
URL:https://www.networkin.uk/event/team-manchester/2026-03-04/
LOCATION:Cheadle Golf Club\, Shiers Drive\, Cheadle Road\, Cheadle\, Cheshire\, SK8 1HW\, United Kingdom
CATEGORIES:Face to Face Meetings,NetworkIN Lancashire,NetworkIN Meetings
ATTACH;FMTTYPE=image/jpeg:https://www.networkin.uk/wp-content/uploads/2020/07/Team-Manchester-NetworkIN-graphic.jpg
ORGANIZER;CN="NetworkIN UK":MAILTO:team@networkin.uk
END:VEVENT
BEGIN:VEVENT
DTSTART;TZID=Europe/London:20260218T064500
DTEND;TZID=Europe/London:20260218T084500
DTSTAMP:20260424T123050
CREATED:20200724T103801Z
LAST-MODIFIED:20241217T170551Z
UID:10004752-1771397100-1771404300@www.networkin.uk
SUMMARY:Team Manchester
DESCRIPTION:Team Manchester meet every other Wednesday at 06:45 at Cheadle Golf Club\, Cheadle. \nAs well as structured referral marketing there is also an opportunity for a minute message – your opportunity to inform the team on what you do and also open networking. \nNetworkIN operates on a sector-exclusive basis\, meaning that if there is an advocate already in the team that does what you do then it will not be possible for you to attend that meeting. However\, with teams operating from hubs across Staffordshire\, Cheshire\, and Lancashire we will likely have a team that will be able to welcome you along. Simply check out our teams or contact NetworkIN HQ on 01785 291 129 or team@networkin.uk and we will happily help. \nWe do restrict our meeting number to allow for a positive referral marketing meeting experience\, so if you are looking for an opportunity to promote your business right now\, seeking to surround yourself with people facing the same challenges as yourself and maintaining a positive mindset TAKE ACTION and book today. \nTo attend the next meeting simply enter your details on the booking form and we will send an invite to you. \n  \nBook your seat now\n  \nMeet the Team
URL:https://www.networkin.uk/event/team-manchester/2026-02-18/
LOCATION:Cheadle Golf Club\, Shiers Drive\, Cheadle Road\, Cheadle\, Cheshire\, SK8 1HW\, United Kingdom
CATEGORIES:Face to Face Meetings,NetworkIN Lancashire,NetworkIN Meetings
ATTACH;FMTTYPE=image/jpeg:https://www.networkin.uk/wp-content/uploads/2020/07/Team-Manchester-NetworkIN-graphic.jpg
ORGANIZER;CN="NetworkIN UK":MAILTO:team@networkin.uk
END:VEVENT
BEGIN:VEVENT
DTSTART;TZID=Europe/London:20260204T064500
DTEND;TZID=Europe/London:20260204T084500
DTSTAMP:20260424T123050
CREATED:20200724T103801Z
LAST-MODIFIED:20241217T170551Z
UID:10004751-1770187500-1770194700@www.networkin.uk
SUMMARY:Team Manchester
DESCRIPTION:Team Manchester meet every other Wednesday at 06:45 at Cheadle Golf Club\, Cheadle. \nAs well as structured referral marketing there is also an opportunity for a minute message – your opportunity to inform the team on what you do and also open networking. \nNetworkIN operates on a sector-exclusive basis\, meaning that if there is an advocate already in the team that does what you do then it will not be possible for you to attend that meeting. However\, with teams operating from hubs across Staffordshire\, Cheshire\, and Lancashire we will likely have a team that will be able to welcome you along. Simply check out our teams or contact NetworkIN HQ on 01785 291 129 or team@networkin.uk and we will happily help. \nWe do restrict our meeting number to allow for a positive referral marketing meeting experience\, so if you are looking for an opportunity to promote your business right now\, seeking to surround yourself with people facing the same challenges as yourself and maintaining a positive mindset TAKE ACTION and book today. \nTo attend the next meeting simply enter your details on the booking form and we will send an invite to you. \n  \nBook your seat now\n  \nMeet the Team
URL:https://www.networkin.uk/event/team-manchester/2026-02-04/
LOCATION:Cheadle Golf Club\, Shiers Drive\, Cheadle Road\, Cheadle\, Cheshire\, SK8 1HW\, United Kingdom
CATEGORIES:Face to Face Meetings,NetworkIN Lancashire,NetworkIN Meetings
ATTACH;FMTTYPE=image/jpeg:https://www.networkin.uk/wp-content/uploads/2020/07/Team-Manchester-NetworkIN-graphic.jpg
ORGANIZER;CN="NetworkIN UK":MAILTO:team@networkin.uk
END:VEVENT
END:VCALENDAR