BEGIN:VCALENDAR
VERSION:2.0
PRODID:-//NetworkIN - ECPv6.15.17.1//NONSGML v1.0//EN
CALSCALE:GREGORIAN
METHOD:PUBLISH
X-ORIGINAL-URL:https://www.networkin.uk
X-WR-CALDESC:Events for NetworkIN
REFRESH-INTERVAL;VALUE=DURATION:PT1H
X-Robots-Tag:noindex
X-PUBLISHED-TTL:PT1H
BEGIN:VTIMEZONE
TZID:Europe/London
BEGIN:DAYLIGHT
TZOFFSETFROM:+0000
TZOFFSETTO:+0100
TZNAME:BST
DTSTART:20250330T010000
END:DAYLIGHT
BEGIN:STANDARD
TZOFFSETFROM:+0100
TZOFFSETTO:+0000
TZNAME:GMT
DTSTART:20251026T010000
END:STANDARD
BEGIN:DAYLIGHT
TZOFFSETFROM:+0000
TZOFFSETTO:+0100
TZNAME:BST
DTSTART:20260329T010000
END:DAYLIGHT
BEGIN:STANDARD
TZOFFSETFROM:+0100
TZOFFSETTO:+0000
TZNAME:GMT
DTSTART:20261025T010000
END:STANDARD
BEGIN:DAYLIGHT
TZOFFSETFROM:+0000
TZOFFSETTO:+0100
TZNAME:BST
DTSTART:20270328T010000
END:DAYLIGHT
BEGIN:STANDARD
TZOFFSETFROM:+0100
TZOFFSETTO:+0000
TZNAME:GMT
DTSTART:20271031T010000
END:STANDARD
END:VTIMEZONE
BEGIN:VEVENT
DTSTART;TZID=Europe/London:20260417T071500
DTEND;TZID=Europe/London:20260417T084500
DTSTAMP:20260424T122856
CREATED:20250717T095532Z
LAST-MODIFIED:20250717T095624Z
UID:10003573-1776410100-1776415500@www.networkin.uk
SUMMARY:Team Cheshire Online
DESCRIPTION:Team Cheshire meet online every other Friday at 7.15 am. \nAs well as structured referral marketing there is also an opportunity for a minute message – your opportunity to inform the team on what you do and also open networking. \nNetworkIN operates on a sector-exclusive basis\, meaning that if there is an advocate already in the team that does what you do then it will not be possible for you to attend that meeting. However\, with teams operating from hubs across Staffordshire\, Cheshire\, Shropshire and Lancashire we will likely have a team that will be able to welcome you along. Simply check out our teams or contact NetworkIN HQ on 01785 291 129 or team@networkin.uk and we will happily help. \nWe do restrict our meeting number to allow for a positive referral marketing meeting experience\, so if you are looking for an opportunity to promote your business right now\, seeking to surround yourself with people facing the same challenges as yourself and maintaining a positive mindset TAKE ACTION and book today. \nTo attend the next meeting simply enter your details on the booking form and we will send an invite to you. \n  \nBook your virtual seat now\n  \nMeet the Team
URL:https://www.networkin.uk/event/team-cheshire-online-2/2026-04-17/
LOCATION:Online\, United Kingdom
CATEGORIES:Online only meeting
ATTACH;FMTTYPE=image/png:https://www.networkin.uk/wp-content/uploads/2020/08/Team-Cheshire-Online.png
ORGANIZER;CN="NetworkIN UK":MAILTO:team@networkin.uk
END:VEVENT
BEGIN:VEVENT
DTSTART;TZID=Europe/London:20260415T064500
DTEND;TZID=Europe/London:20260415T084500
DTSTAMP:20260424T122856
CREATED:20200724T103801Z
LAST-MODIFIED:20241217T170551Z
UID:10004756-1776235500-1776242700@www.networkin.uk
SUMMARY:Team Manchester
DESCRIPTION:Team Manchester meet every other Wednesday at 06:45 at Cheadle Golf Club\, Cheadle. \nAs well as structured referral marketing there is also an opportunity for a minute message – your opportunity to inform the team on what you do and also open networking. \nNetworkIN operates on a sector-exclusive basis\, meaning that if there is an advocate already in the team that does what you do then it will not be possible for you to attend that meeting. However\, with teams operating from hubs across Staffordshire\, Cheshire\, and Lancashire we will likely have a team that will be able to welcome you along. Simply check out our teams or contact NetworkIN HQ on 01785 291 129 or team@networkin.uk and we will happily help. \nWe do restrict our meeting number to allow for a positive referral marketing meeting experience\, so if you are looking for an opportunity to promote your business right now\, seeking to surround yourself with people facing the same challenges as yourself and maintaining a positive mindset TAKE ACTION and book today. \nTo attend the next meeting simply enter your details on the booking form and we will send an invite to you. \n  \nBook your seat now\n  \nMeet the Team
URL:https://www.networkin.uk/event/team-manchester/2026-04-15/
LOCATION:Cheadle Golf Club\, Shiers Drive\, Cheadle Road\, Cheadle\, Cheshire\, SK8 1HW\, United Kingdom
CATEGORIES:Face to Face Meetings,NetworkIN Lancashire,NetworkIN Meetings
ATTACH;FMTTYPE=image/jpeg:https://www.networkin.uk/wp-content/uploads/2020/07/Team-Manchester-NetworkIN-graphic.jpg
ORGANIZER;CN="NetworkIN UK":MAILTO:team@networkin.uk
END:VEVENT
BEGIN:VEVENT
DTSTART;TZID=Europe/London:20260403T071500
DTEND;TZID=Europe/London:20260403T084500
DTSTAMP:20260424T122856
CREATED:20250717T095532Z
LAST-MODIFIED:20250717T095624Z
UID:10003572-1775200500-1775205900@www.networkin.uk
SUMMARY:Team Cheshire Online
DESCRIPTION:Team Cheshire meet online every other Friday at 7.15 am. \nAs well as structured referral marketing there is also an opportunity for a minute message – your opportunity to inform the team on what you do and also open networking. \nNetworkIN operates on a sector-exclusive basis\, meaning that if there is an advocate already in the team that does what you do then it will not be possible for you to attend that meeting. However\, with teams operating from hubs across Staffordshire\, Cheshire\, Shropshire and Lancashire we will likely have a team that will be able to welcome you along. Simply check out our teams or contact NetworkIN HQ on 01785 291 129 or team@networkin.uk and we will happily help. \nWe do restrict our meeting number to allow for a positive referral marketing meeting experience\, so if you are looking for an opportunity to promote your business right now\, seeking to surround yourself with people facing the same challenges as yourself and maintaining a positive mindset TAKE ACTION and book today. \nTo attend the next meeting simply enter your details on the booking form and we will send an invite to you. \n  \nBook your virtual seat now\n  \nMeet the Team
URL:https://www.networkin.uk/event/team-cheshire-online-2/2026-04-03/
LOCATION:Online\, United Kingdom
CATEGORIES:Online only meeting
ATTACH;FMTTYPE=image/png:https://www.networkin.uk/wp-content/uploads/2020/08/Team-Cheshire-Online.png
ORGANIZER;CN="NetworkIN UK":MAILTO:team@networkin.uk
END:VEVENT
BEGIN:VEVENT
DTSTART;TZID=Europe/London:20260401T064500
DTEND;TZID=Europe/London:20260401T084500
DTSTAMP:20260424T122856
CREATED:20200724T103801Z
LAST-MODIFIED:20241217T170551Z
UID:10004755-1775025900-1775033100@www.networkin.uk
SUMMARY:Team Manchester
DESCRIPTION:Team Manchester meet every other Wednesday at 06:45 at Cheadle Golf Club\, Cheadle. \nAs well as structured referral marketing there is also an opportunity for a minute message – your opportunity to inform the team on what you do and also open networking. \nNetworkIN operates on a sector-exclusive basis\, meaning that if there is an advocate already in the team that does what you do then it will not be possible for you to attend that meeting. However\, with teams operating from hubs across Staffordshire\, Cheshire\, and Lancashire we will likely have a team that will be able to welcome you along. Simply check out our teams or contact NetworkIN HQ on 01785 291 129 or team@networkin.uk and we will happily help. \nWe do restrict our meeting number to allow for a positive referral marketing meeting experience\, so if you are looking for an opportunity to promote your business right now\, seeking to surround yourself with people facing the same challenges as yourself and maintaining a positive mindset TAKE ACTION and book today. \nTo attend the next meeting simply enter your details on the booking form and we will send an invite to you. \n  \nBook your seat now\n  \nMeet the Team
URL:https://www.networkin.uk/event/team-manchester/2026-04-01/
LOCATION:Cheadle Golf Club\, Shiers Drive\, Cheadle Road\, Cheadle\, Cheshire\, SK8 1HW\, United Kingdom
CATEGORIES:Face to Face Meetings,NetworkIN Lancashire,NetworkIN Meetings
ATTACH;FMTTYPE=image/jpeg:https://www.networkin.uk/wp-content/uploads/2020/07/Team-Manchester-NetworkIN-graphic.jpg
ORGANIZER;CN="NetworkIN UK":MAILTO:team@networkin.uk
END:VEVENT
BEGIN:VEVENT
DTSTART;TZID=Europe/London:20260320T071500
DTEND;TZID=Europe/London:20260320T084500
DTSTAMP:20260424T122856
CREATED:20250717T095532Z
LAST-MODIFIED:20250717T095624Z
UID:10003571-1773990900-1773996300@www.networkin.uk
SUMMARY:Team Cheshire Online
DESCRIPTION:Team Cheshire meet online every other Friday at 7.15 am. \nAs well as structured referral marketing there is also an opportunity for a minute message – your opportunity to inform the team on what you do and also open networking. \nNetworkIN operates on a sector-exclusive basis\, meaning that if there is an advocate already in the team that does what you do then it will not be possible for you to attend that meeting. However\, with teams operating from hubs across Staffordshire\, Cheshire\, Shropshire and Lancashire we will likely have a team that will be able to welcome you along. Simply check out our teams or contact NetworkIN HQ on 01785 291 129 or team@networkin.uk and we will happily help. \nWe do restrict our meeting number to allow for a positive referral marketing meeting experience\, so if you are looking for an opportunity to promote your business right now\, seeking to surround yourself with people facing the same challenges as yourself and maintaining a positive mindset TAKE ACTION and book today. \nTo attend the next meeting simply enter your details on the booking form and we will send an invite to you. \n  \nBook your virtual seat now\n  \nMeet the Team
URL:https://www.networkin.uk/event/team-cheshire-online-2/2026-03-20/
LOCATION:Online\, United Kingdom
CATEGORIES:Online only meeting
ATTACH;FMTTYPE=image/png:https://www.networkin.uk/wp-content/uploads/2020/08/Team-Cheshire-Online.png
ORGANIZER;CN="NetworkIN UK":MAILTO:team@networkin.uk
END:VEVENT
BEGIN:VEVENT
DTSTART;TZID=Europe/London:20260318T160000
DTEND;TZID=Europe/London:20260318T170000
DTSTAMP:20260424T122857
CREATED:20260209T164536Z
LAST-MODIFIED:20260209T164536Z
UID:10008261-1773849600-1773853200@www.networkin.uk
SUMMARY:Team Captain and Leaders Online Meeting - March 2026
DESCRIPTION:
URL:https://www.networkin.uk/event/team-captain-and-leaders-online-meeting-march-2026-2/
LOCATION:Online\, United Kingdom
CATEGORIES:Team Leader Training,Training
ATTACH;FMTTYPE=image/png:https://www.networkin.uk/wp-content/uploads/2022/11/Team-Leader.png
ORGANIZER;CN="NetworkIN UK":MAILTO:team@networkin.uk
END:VEVENT
BEGIN:VEVENT
DTSTART;TZID=Europe/London:20260318T064500
DTEND;TZID=Europe/London:20260318T084500
DTSTAMP:20260424T122857
CREATED:20200724T103801Z
LAST-MODIFIED:20241217T170551Z
UID:10004754-1773816300-1773823500@www.networkin.uk
SUMMARY:Team Manchester
DESCRIPTION:Team Manchester meet every other Wednesday at 06:45 at Cheadle Golf Club\, Cheadle. \nAs well as structured referral marketing there is also an opportunity for a minute message – your opportunity to inform the team on what you do and also open networking. \nNetworkIN operates on a sector-exclusive basis\, meaning that if there is an advocate already in the team that does what you do then it will not be possible for you to attend that meeting. However\, with teams operating from hubs across Staffordshire\, Cheshire\, and Lancashire we will likely have a team that will be able to welcome you along. Simply check out our teams or contact NetworkIN HQ on 01785 291 129 or team@networkin.uk and we will happily help. \nWe do restrict our meeting number to allow for a positive referral marketing meeting experience\, so if you are looking for an opportunity to promote your business right now\, seeking to surround yourself with people facing the same challenges as yourself and maintaining a positive mindset TAKE ACTION and book today. \nTo attend the next meeting simply enter your details on the booking form and we will send an invite to you. \n  \nBook your seat now\n  \nMeet the Team
URL:https://www.networkin.uk/event/team-manchester/2026-03-18/
LOCATION:Cheadle Golf Club\, Shiers Drive\, Cheadle Road\, Cheadle\, Cheshire\, SK8 1HW\, United Kingdom
CATEGORIES:Face to Face Meetings,NetworkIN Lancashire,NetworkIN Meetings
ATTACH;FMTTYPE=image/jpeg:https://www.networkin.uk/wp-content/uploads/2020/07/Team-Manchester-NetworkIN-graphic.jpg
ORGANIZER;CN="NetworkIN UK":MAILTO:team@networkin.uk
END:VEVENT
BEGIN:VEVENT
DTSTART;TZID=Europe/London:20260316T093000
DTEND;TZID=Europe/London:20260316T123000
DTSTAMP:20260424T122857
CREATED:20251001T105110Z
LAST-MODIFIED:20260303T103022Z
UID:10006855-1773653400-1773664200@www.networkin.uk
SUMMARY:NetworkIN 90 Day Planning Workshop - March 2026
DESCRIPTION:Our 90 planning workshop is designed to prevent or resolve a feeling of overwhelm. It gives order and organisation to our time and focus while embracing and developing some behavioural styles to instill greater emotional and mental wellbeing. \nYou will create a plan that empowers you to be more\, have more and achieve more over the next quarter and harness new skills that will help you and your business to grow. \nSpaces are limited. Free of charge to attend if you are a NetworkIN advocate. £25 plus VAT for other attendees. \nThis workshop is being held face to face at Daisybank House\, Cheadle on March 16th 2026 to start at 09.30am prompt. \nRSVP to attend and you will receive a confirmation email a few days before with additional event details.
URL:https://www.networkin.uk/event/networkin-90-day-planning-workshop-march-2026-2/
LOCATION:NetworkIN\, DaisyBank House\, NetworkIN DaisyBank House\, 17-19 Leek Road\,\, Cheadle\, Stoke on trent\, Staffordshire\, ST10 1JE\, United Kingdom
CATEGORIES:90 Day Planning,Training
ATTACH;FMTTYPE=image/png:https://www.networkin.uk/wp-content/uploads/2020/03/NetworkIN-90-day-planning.png
ORGANIZER;CN="NetworkIN UK":MAILTO:team@networkin.uk
END:VEVENT
BEGIN:VEVENT
DTSTART;TZID=Europe/London:20260306T071500
DTEND;TZID=Europe/London:20260306T084500
DTSTAMP:20260424T122857
CREATED:20250717T095532Z
LAST-MODIFIED:20250717T095624Z
UID:10003570-1772781300-1772786700@www.networkin.uk
SUMMARY:Team Cheshire Online
DESCRIPTION:Team Cheshire meet online every other Friday at 7.15 am. \nAs well as structured referral marketing there is also an opportunity for a minute message – your opportunity to inform the team on what you do and also open networking. \nNetworkIN operates on a sector-exclusive basis\, meaning that if there is an advocate already in the team that does what you do then it will not be possible for you to attend that meeting. However\, with teams operating from hubs across Staffordshire\, Cheshire\, Shropshire and Lancashire we will likely have a team that will be able to welcome you along. Simply check out our teams or contact NetworkIN HQ on 01785 291 129 or team@networkin.uk and we will happily help. \nWe do restrict our meeting number to allow for a positive referral marketing meeting experience\, so if you are looking for an opportunity to promote your business right now\, seeking to surround yourself with people facing the same challenges as yourself and maintaining a positive mindset TAKE ACTION and book today. \nTo attend the next meeting simply enter your details on the booking form and we will send an invite to you. \n  \nBook your virtual seat now\n  \nMeet the Team
URL:https://www.networkin.uk/event/team-cheshire-online-2/2026-03-06/
LOCATION:Online\, United Kingdom
CATEGORIES:Online only meeting
ATTACH;FMTTYPE=image/png:https://www.networkin.uk/wp-content/uploads/2020/08/Team-Cheshire-Online.png
ORGANIZER;CN="NetworkIN UK":MAILTO:team@networkin.uk
END:VEVENT
BEGIN:VEVENT
DTSTART;TZID=Europe/London:20260304T064500
DTEND;TZID=Europe/London:20260304T084500
DTSTAMP:20260424T122857
CREATED:20200724T103801Z
LAST-MODIFIED:20241217T170551Z
UID:10004753-1772606700-1772613900@www.networkin.uk
SUMMARY:Team Manchester
DESCRIPTION:Team Manchester meet every other Wednesday at 06:45 at Cheadle Golf Club\, Cheadle. \nAs well as structured referral marketing there is also an opportunity for a minute message – your opportunity to inform the team on what you do and also open networking. \nNetworkIN operates on a sector-exclusive basis\, meaning that if there is an advocate already in the team that does what you do then it will not be possible for you to attend that meeting. However\, with teams operating from hubs across Staffordshire\, Cheshire\, and Lancashire we will likely have a team that will be able to welcome you along. Simply check out our teams or contact NetworkIN HQ on 01785 291 129 or team@networkin.uk and we will happily help. \nWe do restrict our meeting number to allow for a positive referral marketing meeting experience\, so if you are looking for an opportunity to promote your business right now\, seeking to surround yourself with people facing the same challenges as yourself and maintaining a positive mindset TAKE ACTION and book today. \nTo attend the next meeting simply enter your details on the booking form and we will send an invite to you. \n  \nBook your seat now\n  \nMeet the Team
URL:https://www.networkin.uk/event/team-manchester/2026-03-04/
LOCATION:Cheadle Golf Club\, Shiers Drive\, Cheadle Road\, Cheadle\, Cheshire\, SK8 1HW\, United Kingdom
CATEGORIES:Face to Face Meetings,NetworkIN Lancashire,NetworkIN Meetings
ATTACH;FMTTYPE=image/jpeg:https://www.networkin.uk/wp-content/uploads/2020/07/Team-Manchester-NetworkIN-graphic.jpg
ORGANIZER;CN="NetworkIN UK":MAILTO:team@networkin.uk
END:VEVENT
BEGIN:VEVENT
DTSTART;TZID=Europe/London:20260223T093000
DTEND;TZID=Europe/London:20260223T123000
DTSTAMP:20260424T122857
CREATED:20251001T104238Z
LAST-MODIFIED:20251001T105151Z
UID:10006854-1771839000-1771849800@www.networkin.uk
SUMMARY:New Advocate INduction Workshop - February 2026
DESCRIPTION:NetworkIN invests in your development through support and ongoing learning opportunities. \nThe new advocate induction workshop will ensure you fully understand the guiding principals of the NetworkIN referral marketing system for maximum tangible rewards of being part of our network. \nDefinition of INduction – is the process of introducing someone new to the organisation’s culture and processes to make them feel socially comfortable and aware of their professional responsibilities. \nThis online event is solely for NetworkIN advocates. \nThe workshop is being held face to face at Daisybank House on February 23rd and starts 09:30am prompt. \nThis workshop is provided free of charge to advocates\, so long as you book your place and attend. Non-attendance is charged at £15.00 Plus VAT. Maximum of 12 places per workshop.
URL:https://www.networkin.uk/event/new-advocate-induction-workshop-february-2026/
LOCATION:NetworkIN\, DaisyBank House\, NetworkIN DaisyBank House\, 17-19 Leek Road\,\, Cheadle\, Stoke on trent\, Staffordshire\, ST10 1JE\, United Kingdom
CATEGORIES:New Advocate INduction Workshop,Training
ATTACH;FMTTYPE=image/jpeg:https://www.networkin.uk/wp-content/uploads/2021/11/INduction-training-NetworkIN.jpg
ORGANIZER;CN="NetworkIN UK":MAILTO:team@networkin.uk
END:VEVENT
BEGIN:VEVENT
DTSTART;TZID=Europe/London:20260220T071500
DTEND;TZID=Europe/London:20260220T084500
DTSTAMP:20260424T122857
CREATED:20250717T095532Z
LAST-MODIFIED:20250717T095624Z
UID:10003569-1771571700-1771577100@www.networkin.uk
SUMMARY:Team Cheshire Online
DESCRIPTION:Team Cheshire meet online every other Friday at 7.15 am. \nAs well as structured referral marketing there is also an opportunity for a minute message – your opportunity to inform the team on what you do and also open networking. \nNetworkIN operates on a sector-exclusive basis\, meaning that if there is an advocate already in the team that does what you do then it will not be possible for you to attend that meeting. However\, with teams operating from hubs across Staffordshire\, Cheshire\, Shropshire and Lancashire we will likely have a team that will be able to welcome you along. Simply check out our teams or contact NetworkIN HQ on 01785 291 129 or team@networkin.uk and we will happily help. \nWe do restrict our meeting number to allow for a positive referral marketing meeting experience\, so if you are looking for an opportunity to promote your business right now\, seeking to surround yourself with people facing the same challenges as yourself and maintaining a positive mindset TAKE ACTION and book today. \nTo attend the next meeting simply enter your details on the booking form and we will send an invite to you. \n  \nBook your virtual seat now\n  \nMeet the Team
URL:https://www.networkin.uk/event/team-cheshire-online-2/2026-02-20/
LOCATION:Online\, United Kingdom
CATEGORIES:Online only meeting
ATTACH;FMTTYPE=image/png:https://www.networkin.uk/wp-content/uploads/2020/08/Team-Cheshire-Online.png
ORGANIZER;CN="NetworkIN UK":MAILTO:team@networkin.uk
END:VEVENT
BEGIN:VEVENT
DTSTART;TZID=Europe/London:20260218T160000
DTEND;TZID=Europe/London:20260218T170000
DTSTAMP:20260424T122857
CREATED:20251001T133059Z
LAST-MODIFIED:20251001T133059Z
UID:10006860-1771430400-1771434000@www.networkin.uk
SUMMARY:CoordINator Leader Training - February 2026
DESCRIPTION:NetworkIN UK – Co-ordINator Leader Online Training \nThis online session is for Co-ordINator Leaders within NetworkIN UK. It will outline the core responsibilities of the role\, including leading meetings\, setting the tone for the group\, and ensuring smooth operations. \nWho should attend:New or current Co-ordINator Leaders\, or anyone supporting the role. \nAgenda highlights: \n\n\nRole overview and expectations \n\n\nLeading and facilitating meetings \n\n\nSupporting team structure and communication
URL:https://www.networkin.uk/event/coordinator-leader-training-february-2026/
CATEGORIES:Team Leader Training
ATTACH;FMTTYPE=image/png:https://www.networkin.uk/wp-content/uploads/2022/11/coordinator-Leader.png
ORGANIZER;CN="NetworkIN UK":MAILTO:team@networkin.uk
END:VEVENT
BEGIN:VEVENT
DTSTART;TZID=Europe/London:20260218T064500
DTEND;TZID=Europe/London:20260218T084500
DTSTAMP:20260424T122857
CREATED:20200724T103801Z
LAST-MODIFIED:20241217T170551Z
UID:10004752-1771397100-1771404300@www.networkin.uk
SUMMARY:Team Manchester
DESCRIPTION:Team Manchester meet every other Wednesday at 06:45 at Cheadle Golf Club\, Cheadle. \nAs well as structured referral marketing there is also an opportunity for a minute message – your opportunity to inform the team on what you do and also open networking. \nNetworkIN operates on a sector-exclusive basis\, meaning that if there is an advocate already in the team that does what you do then it will not be possible for you to attend that meeting. However\, with teams operating from hubs across Staffordshire\, Cheshire\, and Lancashire we will likely have a team that will be able to welcome you along. Simply check out our teams or contact NetworkIN HQ on 01785 291 129 or team@networkin.uk and we will happily help. \nWe do restrict our meeting number to allow for a positive referral marketing meeting experience\, so if you are looking for an opportunity to promote your business right now\, seeking to surround yourself with people facing the same challenges as yourself and maintaining a positive mindset TAKE ACTION and book today. \nTo attend the next meeting simply enter your details on the booking form and we will send an invite to you. \n  \nBook your seat now\n  \nMeet the Team
URL:https://www.networkin.uk/event/team-manchester/2026-02-18/
LOCATION:Cheadle Golf Club\, Shiers Drive\, Cheadle Road\, Cheadle\, Cheshire\, SK8 1HW\, United Kingdom
CATEGORIES:Face to Face Meetings,NetworkIN Lancashire,NetworkIN Meetings
ATTACH;FMTTYPE=image/jpeg:https://www.networkin.uk/wp-content/uploads/2020/07/Team-Manchester-NetworkIN-graphic.jpg
ORGANIZER;CN="NetworkIN UK":MAILTO:team@networkin.uk
END:VEVENT
BEGIN:VEVENT
DTSTART;TZID=Europe/London:20260211T160000
DTEND;TZID=Europe/London:20260211T170000
DTSTAMP:20260424T122857
CREATED:20251001T125514Z
LAST-MODIFIED:20251001T125514Z
UID:10006859-1770825600-1770829200@www.networkin.uk
SUMMARY:INtroducer Leader Training - February 2026
DESCRIPTION:NetworkIN UK – INtroducer Leader Online Training \nThis online session is for INtroducer Leaders across NetworkIN UK. It will cover the key responsibilities of the role\, including meeting preparation\, guest support\, and driving engagement within the group. \nWho should attend:New or current INtroducer Leaders\, or anyone supporting the role. \nAgenda highlights: \nRole overview and expectations \nSupporting advocates and guests \nRunning effective meetings
URL:https://www.networkin.uk/event/introducer-leader-training-february-2026/
CATEGORIES:Team Leader Training
ATTACH;FMTTYPE=image/png:https://www.networkin.uk/wp-content/uploads/2025/07/introducer-Leader.png
ORGANIZER;CN="NetworkIN UK":MAILTO:team@networkin.uk
END:VEVENT
BEGIN:VEVENT
DTSTART;TZID=Europe/London:20260206T071500
DTEND;TZID=Europe/London:20260206T084500
DTSTAMP:20260424T122857
CREATED:20250717T095532Z
LAST-MODIFIED:20250717T095624Z
UID:10003568-1770362100-1770367500@www.networkin.uk
SUMMARY:Team Cheshire Online
DESCRIPTION:Team Cheshire meet online every other Friday at 7.15 am. \nAs well as structured referral marketing there is also an opportunity for a minute message – your opportunity to inform the team on what you do and also open networking. \nNetworkIN operates on a sector-exclusive basis\, meaning that if there is an advocate already in the team that does what you do then it will not be possible for you to attend that meeting. However\, with teams operating from hubs across Staffordshire\, Cheshire\, Shropshire and Lancashire we will likely have a team that will be able to welcome you along. Simply check out our teams or contact NetworkIN HQ on 01785 291 129 or team@networkin.uk and we will happily help. \nWe do restrict our meeting number to allow for a positive referral marketing meeting experience\, so if you are looking for an opportunity to promote your business right now\, seeking to surround yourself with people facing the same challenges as yourself and maintaining a positive mindset TAKE ACTION and book today. \nTo attend the next meeting simply enter your details on the booking form and we will send an invite to you. \n  \nBook your virtual seat now\n  \nMeet the Team
URL:https://www.networkin.uk/event/team-cheshire-online-2/2026-02-06/
LOCATION:Online\, United Kingdom
CATEGORIES:Online only meeting
ATTACH;FMTTYPE=image/png:https://www.networkin.uk/wp-content/uploads/2020/08/Team-Cheshire-Online.png
ORGANIZER;CN="NetworkIN UK":MAILTO:team@networkin.uk
END:VEVENT
BEGIN:VEVENT
DTSTART;TZID=Europe/London:20260204T160000
DTEND;TZID=Europe/London:20260204T170000
DTSTAMP:20260424T122857
CREATED:20251001T124936Z
LAST-MODIFIED:20251001T124936Z
UID:10006858-1770220800-1770224400@www.networkin.uk
SUMMARY:INput AdmIN Leader Training - February 2026
DESCRIPTION:NetworkIN UK – INput AdmIN Online Training \nThis online session is designed for INput AdmIN Leaders across Networkin UK. It will cover the key responsibilities of the Input Admin role\, including data entry\, reporting\, and admin best practices. \nWho should attend:Admin Leaders\, new INput AdmINs\, or current. \nAgenda highlights: \nRole overview and responsibilities \nData input and system use \nAdmin processes and collaboration tips
URL:https://www.networkin.uk/event/input-admin-leader-training-february-2026-2/
CATEGORIES:Team Leader Training
ATTACH;FMTTYPE=image/png:https://www.networkin.uk/wp-content/uploads/2025/07/input-Leader.png
ORGANIZER;CN="NetworkIN UK":MAILTO:team@networkin.uk
END:VEVENT
BEGIN:VEVENT
DTSTART;TZID=Europe/London:20260204T064500
DTEND;TZID=Europe/London:20260204T084500
DTSTAMP:20260424T122857
CREATED:20200724T103801Z
LAST-MODIFIED:20241217T170551Z
UID:10004751-1770187500-1770194700@www.networkin.uk
SUMMARY:Team Manchester
DESCRIPTION:Team Manchester meet every other Wednesday at 06:45 at Cheadle Golf Club\, Cheadle. \nAs well as structured referral marketing there is also an opportunity for a minute message – your opportunity to inform the team on what you do and also open networking. \nNetworkIN operates on a sector-exclusive basis\, meaning that if there is an advocate already in the team that does what you do then it will not be possible for you to attend that meeting. However\, with teams operating from hubs across Staffordshire\, Cheshire\, and Lancashire we will likely have a team that will be able to welcome you along. Simply check out our teams or contact NetworkIN HQ on 01785 291 129 or team@networkin.uk and we will happily help. \nWe do restrict our meeting number to allow for a positive referral marketing meeting experience\, so if you are looking for an opportunity to promote your business right now\, seeking to surround yourself with people facing the same challenges as yourself and maintaining a positive mindset TAKE ACTION and book today. \nTo attend the next meeting simply enter your details on the booking form and we will send an invite to you. \n  \nBook your seat now\n  \nMeet the Team
URL:https://www.networkin.uk/event/team-manchester/2026-02-04/
LOCATION:Cheadle Golf Club\, Shiers Drive\, Cheadle Road\, Cheadle\, Cheshire\, SK8 1HW\, United Kingdom
CATEGORIES:Face to Face Meetings,NetworkIN Lancashire,NetworkIN Meetings
ATTACH;FMTTYPE=image/jpeg:https://www.networkin.uk/wp-content/uploads/2020/07/Team-Manchester-NetworkIN-graphic.jpg
ORGANIZER;CN="NetworkIN UK":MAILTO:team@networkin.uk
END:VEVENT
END:VCALENDAR